BEGIN:VCALENDAR
VERSION:2.0
PRODID:-//Greenway Network - ECPv6.0.9//NONSGML v1.0//EN
CALSCALE:GREGORIAN
METHOD:PUBLISH
X-ORIGINAL-URL:https://greenwaynetwork.org
X-WR-CALDESC:Events for Greenway Network
REFRESH-INTERVAL;VALUE=DURATION:PT1H
X-Robots-Tag:noindex
X-PUBLISHED-TTL:PT1H
BEGIN:VTIMEZONE
TZID:UTC
BEGIN:STANDARD
TZOFFSETFROM:+0000
TZOFFSETTO:+0000
TZNAME:UTC
DTSTART:20220101T000000
END:STANDARD
END:VTIMEZONE
BEGIN:VEVENT
DTSTART;TZID=UTC:20220827T110000
DTEND;TZID=UTC:20220827T160000
DTSTAMP:20260423T053617
CREATED:20220701T044503Z
LAST-MODIFIED:20220802T054924Z
UID:3843-1661598000-1661616000@greenwaynetwork.org
SUMMARY:Race for the Rivers
DESCRIPTION:Paddle for 20 or 30 miles on the Missouri River or try out our new 2 mile sprints.  The festival returns with Pirates\, Beer and Music.  Festival starts at 11 am and runs until the last paddler comes off the river or 4 pm.
URL:https://greenwaynetwork.org/event/race-for-the-rivers-2/
LOCATION:Blanchette Landing\, 100 Olive Street\, St. Charles\, MO\, 63301\, United States
END:VEVENT
END:VCALENDAR