BEGIN:VCALENDAR
VERSION:2.0
PRODID:-//Greenway Network - ECPv6.0.9//NONSGML v1.0//EN
CALSCALE:GREGORIAN
METHOD:PUBLISH
X-WR-CALNAME:Greenway Network
X-ORIGINAL-URL:https://greenwaynetwork.org
X-WR-CALDESC:Events for Greenway Network
REFRESH-INTERVAL;VALUE=DURATION:PT1H
X-Robots-Tag:noindex
X-PUBLISHED-TTL:PT1H
BEGIN:VTIMEZONE
TZID:America/Chicago
BEGIN:DAYLIGHT
TZOFFSETFROM:-0600
TZOFFSETTO:-0500
TZNAME:CDT
DTSTART:20220313T080000
END:DAYLIGHT
BEGIN:STANDARD
TZOFFSETFROM:-0500
TZOFFSETTO:-0600
TZNAME:CST
DTSTART:20221106T070000
END:STANDARD
TZID:UTC
BEGIN:STANDARD
TZOFFSETFROM:+0000
TZOFFSETTO:+0000
TZNAME:UTC
DTSTART:20220101T000000
END:STANDARD
END:VTIMEZONE
BEGIN:VEVENT
DTSTART;VALUE=DATE:20220402
DTEND;VALUE=DATE:20220403
DTSTAMP:20260423T122122
CREATED:20220107T053951Z
LAST-MODIFIED:20220301T193506Z
UID:3739-1648857600-1648943999@greenwaynetwork.org
SUMMARY:Mission Clean Stream 2022 in Memory of Greg Poleski
DESCRIPTION:This form is currently closed for submissions. \nPART 2:  MISSION: CLEAN STREAM EDITION  April 2  2022. \nEverything else stays the same.  If you registered for the postponed event\, you are still registered for this one. \nWe are finally able to get back to Cora Island after several years.  Lots of heavy metal and tires have drifted in and we want to get a start on pulling it out before the Spring floods move things around again.  The trash is spread out over two miles so there will plenty of walking.  It is also heavy.  This is one of those clean ups that is for those who really want to dig in and make a difference. \nDue to covid restrictions\, we will not be able to provide food or water so you will need to bring your own water and a light snack. \nDress for the weather.  Be prepared to walk.
URL:https://greenwaynetwork.org/event/mission-clean-stream-2022/
LOCATION:Cora Island\, Cora Island Road off Red School Road\, West Alton\, MO\, 63386
END:VEVENT
BEGIN:VEVENT
DTSTART;VALUE=DATE:20220430
DTEND;VALUE=DATE:20220502
DTSTAMP:20260423T122122
CREATED:20220301T194417Z
LAST-MODIFIED:20220301T194621Z
UID:3782-1651276800-1651449599@greenwaynetwork.org
SUMMARY:Spring 2022 Dardenne Creek Monitoring Day
DESCRIPTION:Join Greenway  Network on this twice a year adventure to monitor Dardenne Creek.  Experienced Stream Team volunteers can go out to one or more sites and do a complete water quality monitoring protocol.  This is a great opportunity for any one who is new the Stream team and wants to test out their skills with some experienced back up.  People who are interested in learning more about Stream Team or water quality monitoring are also invited to participate. \nPlease contact Larry Ruff: greenwaynetwork@gmail.com or call 636-498-0772 to help us with this important and fun event.
URL:https://greenwaynetwork.org/event/spring-2022-dardenne-creek-monitoring-day/
END:VEVENT
END:VCALENDAR