BEGIN:VCALENDAR
VERSION:2.0
PRODID:-//Greenway Network - ECPv6.0.9//NONSGML v1.0//EN
CALSCALE:GREGORIAN
METHOD:PUBLISH
X-ORIGINAL-URL:https://greenwaynetwork.org
X-WR-CALDESC:Events for Greenway Network
REFRESH-INTERVAL;VALUE=DURATION:PT1H
X-Robots-Tag:noindex
X-PUBLISHED-TTL:PT1H
BEGIN:VTIMEZONE
TZID:UTC
BEGIN:STANDARD
TZOFFSETFROM:+0000
TZOFFSETTO:+0000
TZNAME:UTC
DTSTART:20220101T000000
END:STANDARD
END:VTIMEZONE
BEGIN:VEVENT
DTSTART;TZID=UTC:20220924T090000
DTEND;TZID=UTC:20220924T090000
DTSTAMP:20260423T052316
CREATED:20190723T003447Z
LAST-MODIFIED:20220807T234730Z
UID:1653-1664010000-1664010000@greenwaynetwork.org
SUMMARY:GN Conservation Team at National Public Lands Day
DESCRIPTION:Please note due to Covid-19\, our procedures for signing up and checking in have changed. We will not be providing food or t-shirts this year. Bring plenty of water and any snacks you might want. Wear a mask whenever you are unable to properly social distance. \nGreenway Network Conservation Teams and other volunteers will be picking up trash\, planting\, removing invasive plants and doing other needed work on public lands near the confluence of the Mississippi and Missouri Rivers. The Cora Island Unit of the US Fish and Wildlife Big Muddy Refuge\, the Missouri Dept. of Natural Resources Jones Confluence State Park and the US Army Corps of Engineers Riverlands Migratory Bird Sanctuary need your help conserving and restoring our lands and waters. \nPlease bring gloves\, water bottle and boots or sturdy shoes. We work rain or shine\, so bring your sunscreen or rain gear! Come outdoors and join the fun! \nRegister here
URL:https://greenwaynetwork.org/event/gn-conservation-team-at-national-public-lands-day/
LOCATION:Various Locations
END:VEVENT
END:VCALENDAR