BEGIN:VCALENDAR
VERSION:2.0
PRODID:-//Greenway Network - ECPv6.0.9//NONSGML v1.0//EN
CALSCALE:GREGORIAN
METHOD:PUBLISH
X-WR-CALNAME:Greenway Network
X-ORIGINAL-URL:https://greenwaynetwork.org
X-WR-CALDESC:Events for Greenway Network
REFRESH-INTERVAL;VALUE=DURATION:PT1H
X-Robots-Tag:noindex
X-PUBLISHED-TTL:PT1H
BEGIN:VTIMEZONE
TZID:UTC
BEGIN:STANDARD
TZOFFSETFROM:+0000
TZOFFSETTO:+0000
TZNAME:UTC
DTSTART:20220101T000000
END:STANDARD
END:VTIMEZONE
BEGIN:VEVENT
DTSTART;TZID=UTC:20220909T083000
DTEND;TZID=UTC:20220910T210000
DTSTAMP:20260423T052234
CREATED:20220701T052011Z
LAST-MODIFIED:20220802T193617Z
UID:3838-1662712200-1662843600@greenwaynetwork.org
SUMMARY:River Soundings
DESCRIPTION:Rivers Soundings is a conference for people who live near\, work on\, rely on and love the Missouri River.  This annual event includes panel discussions on issues related to big rivers and the Missouri River in particular. \nThis year the conference will take place at Klondike Park Conference Center near Augusta\, MO.  The theme is a celebration of the 50th Anniversary of the Clean Water Act.  Our keynote speaker on Friday evening will be Olivia Dorothy from American Rivers.  After a day of panels and conversation we will gather around the campfire for some river entertainment.  Saturday will see a morning of presentations followed by an opportunity to get outside\, meet local river vendors and get in some real river recreation. Details will be added closer to the event. \nSpace is strictly limited so preregister today. \nRegister Now
URL:https://greenwaynetwork.org/event/river-soundings/
LOCATION:Klondike Park\, 4600 Highway 94 S\, Augusta\, MO\, 63332\, United States
END:VEVENT
END:VCALENDAR